BEGIN:VCALENDAR
VERSION:2.0
PRODID:-//Civic Center Park - ECPv6.15.20//NONSGML v1.0//EN
CALSCALE:GREGORIAN
METHOD:PUBLISH
X-WR-CALNAME:Civic Center Park
X-ORIGINAL-URL:https://civiccenterpark.org
X-WR-CALDESC:Events for Civic Center Park
REFRESH-INTERVAL;VALUE=DURATION:PT1H
X-Robots-Tag:noindex
X-PUBLISHED-TTL:PT1H
BEGIN:VTIMEZONE
TZID:UTC
BEGIN:STANDARD
TZOFFSETFROM:+0000
TZOFFSETTO:+0000
TZNAME:UTC
DTSTART:20240101T000000
END:STANDARD
END:VTIMEZONE
BEGIN:VEVENT
DTSTART;TZID=UTC:20250426T110000
DTEND;TZID=UTC:20250426T170000
DTSTAMP:20260421T143413
CREATED:20240321T161255Z
LAST-MODIFIED:20250220T172711Z
UID:10000507-1745665200-1745686800@civiccenterpark.org
SUMMARY:Future Fest
DESCRIPTION:We want to see you at Future Fest 2025\, on April 26\, 2025 at Civic Center Park. Bring your friends to this free event that’s all about YOUth! \nFuture Fest is an inclusive\, free\, citywide event for young people of all ages and their families. Future Fest celebrates Denver’s young people for their contributions to their communities. This citywide event is focused on empowering youth\, connecting passions to careers and creating a more inclusive future for all. \nYOUth belong at Future Fest 2025! \nBrought to you by the City and County of Denver. \nWe strive to post the most current and accurate event information\, but changes and cancellations do occur\, so please check the official event website to confirm all details before attending.
URL:https://civiccenterpark.org/event/future-fest/
LOCATION:Civic Center Park\, 101 W. 14th Ave.\, Denver\, 80202\, United States
CATEGORIES:Family-friendly,Free
ATTACH;FMTTYPE=image/png:https://civiccenterpark.org/wp-content/uploads/2024/03/denvergov_jobspage_tileimage_futurefest.png
END:VEVENT
END:VCALENDAR