BEGIN:VCALENDAR
VERSION:2.0
PRODID:-//Civic Center Park - ECPv6.15.20//NONSGML v1.0//EN
CALSCALE:GREGORIAN
METHOD:PUBLISH
X-ORIGINAL-URL:https://civiccenterpark.org
X-WR-CALDESC:Events for Civic Center Park
REFRESH-INTERVAL;VALUE=DURATION:PT1H
X-Robots-Tag:noindex
X-PUBLISHED-TTL:PT1H
BEGIN:VTIMEZONE
TZID:America/Denver
BEGIN:DAYLIGHT
TZOFFSETFROM:-0700
TZOFFSETTO:-0600
TZNAME:MDT
DTSTART:20250309T090000
END:DAYLIGHT
BEGIN:STANDARD
TZOFFSETFROM:-0600
TZOFFSETTO:-0700
TZNAME:MST
DTSTART:20251102T080000
END:STANDARD
BEGIN:DAYLIGHT
TZOFFSETFROM:-0700
TZOFFSETTO:-0600
TZNAME:MDT
DTSTART:20260308T090000
END:DAYLIGHT
BEGIN:STANDARD
TZOFFSETFROM:-0600
TZOFFSETTO:-0700
TZNAME:MST
DTSTART:20261101T080000
END:STANDARD
BEGIN:DAYLIGHT
TZOFFSETFROM:-0700
TZOFFSETTO:-0600
TZNAME:MDT
DTSTART:20270314T090000
END:DAYLIGHT
BEGIN:STANDARD
TZOFFSETFROM:-0600
TZOFFSETTO:-0700
TZNAME:MST
DTSTART:20271107T080000
END:STANDARD
END:VTIMEZONE
BEGIN:VTIMEZONE
TZID:America/Denver
BEGIN:DAYLIGHT
TZOFFSETFROM:-0700
TZOFFSETTO:-0600
TZNAME:MDT
DTSTART:20250309T090000
END:DAYLIGHT
BEGIN:STANDARD
TZOFFSETFROM:-0600
TZOFFSETTO:-0700
TZNAME:MST
DTSTART:20251102T080000
END:STANDARD
BEGIN:DAYLIGHT
TZOFFSETFROM:-0700
TZOFFSETTO:-0600
TZNAME:MDT
DTSTART:20260308T090000
END:DAYLIGHT
BEGIN:STANDARD
TZOFFSETFROM:-0600
TZOFFSETTO:-0700
TZNAME:MST
DTSTART:20261101T080000
END:STANDARD
BEGIN:DAYLIGHT
TZOFFSETFROM:-0700
TZOFFSETTO:-0600
TZNAME:MDT
DTSTART:20270314T090000
END:DAYLIGHT
BEGIN:STANDARD
TZOFFSETFROM:-0600
TZOFFSETTO:-0700
TZNAME:MST
DTSTART:20271107T080000
END:STANDARD
END:VTIMEZONE
BEGIN:VEVENT
DTSTART;TZID=America/Denver:20260502T100000
DTEND;TZID=America/Denver:20260502T200000
DTSTAMP:20260421T164542
CREATED:20260304T205324Z
LAST-MODIFIED:20260304T205324Z
UID:10001200-1777716000-1777752000@civiccenterpark.org
SUMMARY:Denver Cinco de Mayo Festival
DESCRIPTION:Come out for an unforgettable celebration at the largest and longest-standing regional Cinco de Mayo festival in Colorado! Immerse yourself in the vibrant spirit of Mexican culture with a weekend full of exciting events\, contests\, and non-stop entertainment across three dynamic stages. Indulge your taste buds at our diverse food vendors\, and explore unique merchandise from local artisans. Bring the whole family to enjoy kid-friendly activities and create lasting memories together. Don’t miss out on this iconic event that has been a cornerstone of Colorado’s Cinco de Mayo celebrations for years. \nSave the date and come be a part of the ultimate Cinco de Mayo experience! \nThe Cinco de Mayo “Celebrate Culture” Festival is produced by NEWSED Community Development Corporation\, a local nonprofit 501(c)3 organization. Read more about them.
URL:https://civiccenterpark.org/event/denver-cinco-de-mayo-festival-3/
LOCATION:Civic Center Park\, 101 W. 14th Ave.\, Denver\, 80202\, United States
CATEGORIES:Community,Family-friendly,Festivals,Free
ATTACH;FMTTYPE=image/png:https://civiccenterpark.org/wp-content/uploads/2026/03/Cinco2026_Blue_1920X1080.png
END:VEVENT
BEGIN:VEVENT
DTSTART;TZID=America/Denver:20260503T100000
DTEND;TZID=America/Denver:20260503T200000
DTSTAMP:20260421T164542
CREATED:20260304T205357Z
LAST-MODIFIED:20260304T205357Z
UID:10001201-1777802400-1777838400@civiccenterpark.org
SUMMARY:Denver Cinco de Mayo Festival
DESCRIPTION:Come out for an unforgettable celebration at the largest and longest-standing regional Cinco de Mayo festival in Colorado! Immerse yourself in the vibrant spirit of Mexican culture with a weekend full of exciting events\, contests\, and non-stop entertainment across three dynamic stages. Indulge your taste buds at our diverse food vendors\, and explore unique merchandise from local artisans. Bring the whole family to enjoy kid-friendly activities and create lasting memories together. Don’t miss out on this iconic event that has been a cornerstone of Colorado’s Cinco de Mayo celebrations for years. \nSave the date and come be a part of the ultimate Cinco de Mayo experience! \nThe Cinco de Mayo “Celebrate Culture” Festival is produced by NEWSED Community Development Corporation\, a local nonprofit 501(c)3 organization. Read more about them.
URL:https://civiccenterpark.org/event/denver-cinco-de-mayo-festival-4/
LOCATION:Civic Center Park\, 101 W. 14th Ave.\, Denver\, 80202\, United States
CATEGORIES:Community,Family-friendly,Festivals,Free
ATTACH;FMTTYPE=image/png:https://civiccenterpark.org/wp-content/uploads/2026/03/Cinco2026_Blue_1920X1080.png
END:VEVENT
BEGIN:VEVENT
DTSTART;TZID=America/Denver:20260513T110000
DTEND;TZID=America/Denver:20260513T140000
DTSTAMP:20260421T164542
CREATED:20260327T213907Z
LAST-MODIFIED:20260401T201154Z
UID:10001204-1778670000-1778680800@civiccenterpark.org
SUMMARY:Civic Center EATS
DESCRIPTION:Every Wednesday and Thursday from mid-May through mid-October\, join us for lunch from a dozen or more food trucks. Featuring emerging entrepreneurs and longtime favorites\, EATS boasts the best summer lunch in Denver\, right in the heart of the city! \nEATS returns in 2026 on Bannock Street and the Civic Center Park Meadow! \nVisit the EATS Homepage for food truck lineup and more info!
URL:https://civiccenterpark.org/event/civic-center-eats-2/2026-05-13/
LOCATION:Civic Center Park\, 101 W. 14th Ave.\, Denver\, 80202\, United States
CATEGORIES:Community,Food/Culinary,Music
ATTACH;FMTTYPE=image/png:https://civiccenterpark.org/wp-content/uploads/2026/03/Civic-Center-Eats-Logo-CMYK.png
END:VEVENT
BEGIN:VEVENT
DTSTART;TZID=America/Denver:20260514T110000
DTEND;TZID=America/Denver:20260514T140000
DTSTAMP:20260421T164542
CREATED:20260327T213907Z
LAST-MODIFIED:20260401T201154Z
UID:10001205-1778756400-1778767200@civiccenterpark.org
SUMMARY:Civic Center EATS
DESCRIPTION:Every Wednesday and Thursday from mid-May through mid-October\, join us for lunch from a dozen or more food trucks. Featuring emerging entrepreneurs and longtime favorites\, EATS boasts the best summer lunch in Denver\, right in the heart of the city! \nEATS returns in 2026 on Bannock Street and the Civic Center Park Meadow! \nVisit the EATS Homepage for food truck lineup and more info!
URL:https://civiccenterpark.org/event/civic-center-eats-2/2026-05-14/
LOCATION:Civic Center Park\, 101 W. 14th Ave.\, Denver\, 80202\, United States
CATEGORIES:Community,Food/Culinary,Music
ATTACH;FMTTYPE=image/png:https://civiccenterpark.org/wp-content/uploads/2026/03/Civic-Center-Eats-Logo-CMYK.png
END:VEVENT
BEGIN:VEVENT
DTSTART;TZID=America/Denver:20260520T110000
DTEND;TZID=America/Denver:20260520T140000
DTSTAMP:20260421T164542
CREATED:20260327T213907Z
LAST-MODIFIED:20260401T201154Z
UID:10001206-1779274800-1779285600@civiccenterpark.org
SUMMARY:Civic Center EATS
DESCRIPTION:Every Wednesday and Thursday from mid-May through mid-October\, join us for lunch from a dozen or more food trucks. Featuring emerging entrepreneurs and longtime favorites\, EATS boasts the best summer lunch in Denver\, right in the heart of the city! \nEATS returns in 2026 on Bannock Street and the Civic Center Park Meadow! \nVisit the EATS Homepage for food truck lineup and more info!
URL:https://civiccenterpark.org/event/civic-center-eats-2/2026-05-20/
LOCATION:Civic Center Park\, 101 W. 14th Ave.\, Denver\, 80202\, United States
CATEGORIES:Community,Food/Culinary,Music
ATTACH;FMTTYPE=image/png:https://civiccenterpark.org/wp-content/uploads/2026/03/Civic-Center-Eats-Logo-CMYK.png
END:VEVENT
BEGIN:VEVENT
DTSTART;TZID=America/Denver:20260521T110000
DTEND;TZID=America/Denver:20260521T140000
DTSTAMP:20260421T164542
CREATED:20260327T213907Z
LAST-MODIFIED:20260401T201154Z
UID:10001207-1779361200-1779372000@civiccenterpark.org
SUMMARY:Civic Center EATS
DESCRIPTION:Every Wednesday and Thursday from mid-May through mid-October\, join us for lunch from a dozen or more food trucks. Featuring emerging entrepreneurs and longtime favorites\, EATS boasts the best summer lunch in Denver\, right in the heart of the city! \nEATS returns in 2026 on Bannock Street and the Civic Center Park Meadow! \nVisit the EATS Homepage for food truck lineup and more info!
URL:https://civiccenterpark.org/event/civic-center-eats-2/2026-05-21/
LOCATION:Civic Center Park\, 101 W. 14th Ave.\, Denver\, 80202\, United States
CATEGORIES:Community,Food/Culinary,Music
ATTACH;FMTTYPE=image/png:https://civiccenterpark.org/wp-content/uploads/2026/03/Civic-Center-Eats-Logo-CMYK.png
END:VEVENT
BEGIN:VEVENT
DTSTART;TZID=America/Denver:20260527T110000
DTEND;TZID=America/Denver:20260527T140000
DTSTAMP:20260421T164542
CREATED:20260327T213907Z
LAST-MODIFIED:20260401T201154Z
UID:10001208-1779879600-1779890400@civiccenterpark.org
SUMMARY:Civic Center EATS
DESCRIPTION:Every Wednesday and Thursday from mid-May through mid-October\, join us for lunch from a dozen or more food trucks. Featuring emerging entrepreneurs and longtime favorites\, EATS boasts the best summer lunch in Denver\, right in the heart of the city! \nEATS returns in 2026 on Bannock Street and the Civic Center Park Meadow! \nVisit the EATS Homepage for food truck lineup and more info!
URL:https://civiccenterpark.org/event/civic-center-eats-2/2026-05-27/
LOCATION:Civic Center Park\, 101 W. 14th Ave.\, Denver\, 80202\, United States
CATEGORIES:Community,Food/Culinary,Music
ATTACH;FMTTYPE=image/png:https://civiccenterpark.org/wp-content/uploads/2026/03/Civic-Center-Eats-Logo-CMYK.png
END:VEVENT
BEGIN:VEVENT
DTSTART;TZID=America/Denver:20260528T110000
DTEND;TZID=America/Denver:20260528T140000
DTSTAMP:20260421T164542
CREATED:20260327T213907Z
LAST-MODIFIED:20260401T201154Z
UID:10001209-1779966000-1779976800@civiccenterpark.org
SUMMARY:Civic Center EATS
DESCRIPTION:Every Wednesday and Thursday from mid-May through mid-October\, join us for lunch from a dozen or more food trucks. Featuring emerging entrepreneurs and longtime favorites\, EATS boasts the best summer lunch in Denver\, right in the heart of the city! \nEATS returns in 2026 on Bannock Street and the Civic Center Park Meadow! \nVisit the EATS Homepage for food truck lineup and more info!
URL:https://civiccenterpark.org/event/civic-center-eats-2/2026-05-28/
LOCATION:Civic Center Park\, 101 W. 14th Ave.\, Denver\, 80202\, United States
CATEGORIES:Community,Food/Culinary,Music
ATTACH;FMTTYPE=image/png:https://civiccenterpark.org/wp-content/uploads/2026/03/Civic-Center-Eats-Logo-CMYK.png
END:VEVENT
END:VCALENDAR