BEGIN:VCALENDAR
VERSION:2.0
PRODID:-//Civic Center Park - ECPv6.15.20//NONSGML v1.0//EN
CALSCALE:GREGORIAN
METHOD:PUBLISH
X-WR-CALNAME:Civic Center Park
X-ORIGINAL-URL:https://civiccenterpark.org
X-WR-CALDESC:Events for Civic Center Park
REFRESH-INTERVAL;VALUE=DURATION:PT1H
X-Robots-Tag:noindex
X-PUBLISHED-TTL:PT1H
BEGIN:VTIMEZONE
TZID:UTC
BEGIN:STANDARD
TZOFFSETFROM:+0000
TZOFFSETTO:+0000
TZNAME:UTC
DTSTART:20230101T000000
END:STANDARD
END:VTIMEZONE
BEGIN:VEVENT
DTSTART;TZID=UTC:20240816T161500
DTEND;TZID=UTC:20240816T180000
DTSTAMP:20260422T122247
CREATED:20240805T185407Z
LAST-MODIFIED:20240805T185415Z
UID:10000553-1723824900-1723831200@civiccenterpark.org
SUMMARY:Exhibition Opening Reception
DESCRIPTION:We invite you to attend the opening reception for three new McNichols Civic Center Building exhibitions: “201Kimonos\,” “Seeking Beauty” and “Timeless.” \nLight refreshments will be served. Remarks by Paul Ramsey\, independent expert and gallery owner\, and Shanna Shelby \nThis reception is free and open to the public. Please RSVP. \n\n\nWe strive to post the most current and accurate event information\, but changes and cancellations do occur\, so please check the official event website to confirm all details before attending.
URL:https://civiccenterpark.org/event/exhibition-opening-reception/
LOCATION:McNichols Building\, 144 W. Colfax Avenue\, Denver\, CO\, 80204\, United States
CATEGORIES:Ticketed
END:VEVENT
END:VCALENDAR