BEGIN:VCALENDAR
VERSION:2.0
PRODID:-//Civic Center Park - ECPv6.15.20//NONSGML v1.0//EN
CALSCALE:GREGORIAN
METHOD:PUBLISH
X-WR-CALNAME:Civic Center Park
X-ORIGINAL-URL:https://civiccenterpark.org
X-WR-CALDESC:Events for Civic Center Park
REFRESH-INTERVAL;VALUE=DURATION:PT1H
X-Robots-Tag:noindex
X-PUBLISHED-TTL:PT1H
BEGIN:VTIMEZONE
TZID:America/Denver
BEGIN:DAYLIGHT
TZOFFSETFROM:-0700
TZOFFSETTO:-0600
TZNAME:MDT
DTSTART:20240310T090000
END:DAYLIGHT
BEGIN:STANDARD
TZOFFSETFROM:-0600
TZOFFSETTO:-0700
TZNAME:MST
DTSTART:20241103T080000
END:STANDARD
BEGIN:DAYLIGHT
TZOFFSETFROM:-0700
TZOFFSETTO:-0600
TZNAME:MDT
DTSTART:20250309T090000
END:DAYLIGHT
BEGIN:STANDARD
TZOFFSETFROM:-0600
TZOFFSETTO:-0700
TZNAME:MST
DTSTART:20251102T080000
END:STANDARD
BEGIN:DAYLIGHT
TZOFFSETFROM:-0700
TZOFFSETTO:-0600
TZNAME:MDT
DTSTART:20260308T090000
END:DAYLIGHT
BEGIN:STANDARD
TZOFFSETFROM:-0600
TZOFFSETTO:-0700
TZNAME:MST
DTSTART:20261101T080000
END:STANDARD
END:VTIMEZONE
BEGIN:VEVENT
DTSTART;TZID=America/Denver:20250913T170000
DTEND;TZID=America/Denver:20250913T220000
DTSTAMP:20260419T184605
CREATED:20250603T162359Z
LAST-MODIFIED:20250603T162359Z
UID:10001183-1757782800-1757800800@civiccenterpark.org
SUMMARY:Sammy Virji at Civic Center Park
DESCRIPTION:Presented by AEG. All ages Show. \nArtist Pre-Sale: Wednesday\, June 4 from 10am – Thursday\, June 5 at 10pm – Register HERE \nOn-Sale: Friday\, June 6 at 10am- GET TICKETS
URL:https://civiccenterpark.org/event/sammy-virji-at-civic-center-park/
LOCATION:Civic Center Park\, 101 W. 14th Ave.\, Denver\, 80202\, United States
CATEGORIES:Music,Ticketed
ATTACH;FMTTYPE=image/png:https://civiccenterpark.org/wp-content/uploads/2025/06/Sammy_Summer2025_Denver_1200x628.png
END:VEVENT
END:VCALENDAR