BEGIN:VCALENDAR
VERSION:2.0
PRODID:-//Civic Center Park - ECPv6.15.20//NONSGML v1.0//EN
CALSCALE:GREGORIAN
METHOD:PUBLISH
X-ORIGINAL-URL:https://civiccenterpark.org
X-WR-CALDESC:Events for Civic Center Park
REFRESH-INTERVAL;VALUE=DURATION:PT1H
X-Robots-Tag:noindex
X-PUBLISHED-TTL:PT1H
BEGIN:VTIMEZONE
TZID:America/Denver
BEGIN:DAYLIGHT
TZOFFSETFROM:-0700
TZOFFSETTO:-0600
TZNAME:MDT
DTSTART:20250309T090000
END:DAYLIGHT
BEGIN:STANDARD
TZOFFSETFROM:-0600
TZOFFSETTO:-0700
TZNAME:MST
DTSTART:20251102T080000
END:STANDARD
BEGIN:DAYLIGHT
TZOFFSETFROM:-0700
TZOFFSETTO:-0600
TZNAME:MDT
DTSTART:20260308T090000
END:DAYLIGHT
BEGIN:STANDARD
TZOFFSETFROM:-0600
TZOFFSETTO:-0700
TZNAME:MST
DTSTART:20261101T080000
END:STANDARD
BEGIN:DAYLIGHT
TZOFFSETFROM:-0700
TZOFFSETTO:-0600
TZNAME:MDT
DTSTART:20270314T090000
END:DAYLIGHT
BEGIN:STANDARD
TZOFFSETFROM:-0600
TZOFFSETTO:-0700
TZNAME:MST
DTSTART:20271107T080000
END:STANDARD
END:VTIMEZONE
BEGIN:VEVENT
DTSTART;TZID=America/Denver:20260226T190000
DTEND;TZID=America/Denver:20260226T210000
DTSTAMP:20260422T172024
CREATED:20251203T231259Z
LAST-MODIFIED:20260226T173657Z
UID:10001194-1772132400-1772139600@civiccenterpark.org
SUMMARY:Civic Center STARGAZE - February Edition
DESCRIPTION:******IMPORTANT – Due to significant cloud cover forecasted for this Wednesday\, we are POSTPONING  the February STARGAZE to THURSDAY\, FEBRUARY 26TH.\nAll existing tickets will automatically be transferred to the new date for the same time slot and you will use your ORIGINAL TICKET FOR CHECKING IN. Please email activations@civiccenterconservancy.org if you have questions or need additional information. \n============== \nSTARGAZE IS BACK! \nJoin Civic Center Conservancy and AstroTours on the Great Lawn in Civic Center Park for a celestial journey right in the heart of the city. Accessible to all ages\, we invite you to learn from skilled astronomers about the wonders of the cosmos\, constellations and their folklore\, and observe the moon and other celestial bodies through high powered telescopes. Enjoy tasty food and beverages available for purchase from a local food truck to round out an enchanting evening that promises an “out of this world” experience! \nFood Truck: Karun Cafe \nStar-cast: For this month’s event\, visitors can observe highly detailed views of the surface of the Moon (which is in its early Waxing Gibbous Phase) as well as Jupiter and Sirius\, the brightest star in the sky. This time of year\, the Pleiades or seven Sisters star cluster is another spectacular sight that will also be in view. For our later sessions\, there is also the chance to catch sights of the Orion Nebula! \nVisit the STARGAZE Page for the most up-to-date information\, policies\, and weather advisories. \nTicket information \nAll attendees 5 years and older must purchase a ticket. All children 12 and under require adult supervision (suggested minimum ratio of 2 kids : 1 adult). We appreciate your understanding to help us keep this a safe and fun event! \nPlease note: All dates are subject to cancellation in the event of inclement weather and/or significant cloud cover. In these cases\, alternate dates to be announced.
URL:https://civiccenterpark.org/event/civic-center-stargaze-feb2026/
LOCATION:Civic Center Park\, 101 W. 14th Ave.\, Denver\, 80202\, United States
CATEGORIES:Community,Family-friendly
ATTACH;FMTTYPE=image/jpeg:https://civiccenterpark.org/wp-content/uploads/2025/01/IMG_0178-1-scaled.jpg
END:VEVENT
END:VCALENDAR